BEGIN:VCALENDAR
VERSION:2.0
PRODID:icalendar-ruby
CALSCALE:GREGORIAN
METHOD:PUBLISH
BEGIN:VEVENT
DTSTAMP:20260420T230418Z
UID:75-2419467@stjohnmr.com
DTSTART:20260921T013000Z
DTEND:20260921T033000Z
CLASS:PUBLIC
CREATED:20260420T140141
DESCRIPTION:
LAST-MODIFIED:20260420T140141
LOCATION:St. John the Divine Church in the Hall
SUMMARY:Weekly Group Meeting
URL;VALUE=URI:https://www.stjohnmr.com/events/weekly-group-meeting/2026-09-
 20
ATTACH;FILENAME=Hannah house.jpg;FMTTYPE=image/jpeg:https://dq5pwpg1q8ru0.c
 loudfront.net/2025/03/14/22/18/42/20867392-2e0a-43e6-b969-ce37e3ff4a8d/Han
 nah%20house.jpg
END:VEVENT
END:VCALENDAR
